{
 "currentVersion": 11.3,
 "cimVersion": "3.3.0",
 "serviceDescription": "",
 "mapName": "RenAdm(gisreader)",
 "description": "",
 "copyrightText": "",
 "supportsDynamicLayers": true,
 "layers": [
  {
   "id": 2,
   "name": "Samebygräns enligt beslut",
   "parentLayerId": -1,
   "defaultVisibility": true,
   "subLayerIds": null,
   "minScale": 0,
   "maxScale": 0,
   "type": "Feature Layer",
   "geometryType": "esriGeometryPolyline",
   "supportsDynamicLegends": true
  },
  {
   "id": 3,
   "name": "Administrativ linje",
   "parentLayerId": -1,
   "defaultVisibility": true,
   "subLayerIds": null,
   "minScale": 0,
   "maxScale": 0,
   "type": "Feature Layer",
   "geometryType": "esriGeometryPolyline",
   "supportsDynamicLegends": true
  },
  {
   "id": 7,
   "name": "Renbetesfjäll",
   "parentLayerId": -1,
   "defaultVisibility": true,
   "subLayerIds": null,
   "minScale": 0,
   "maxScale": 0,
   "type": "Feature Layer",
   "geometryType": "esriGeometryPolygon",
   "supportsDynamicLegends": true
  },
  {
   "id": 12,
   "name": "Åretruntmarker",
   "parentLayerId": -1,
   "defaultVisibility": true,
   "subLayerIds": null,
   "minScale": 0,
   "maxScale": 0,
   "type": "Feature Layer",
   "geometryType": "esriGeometryPolygon",
   "supportsDynamicLegends": true
  },
  {
   "id": 13,
   "name": "Byområde",
   "parentLayerId": -1,
   "defaultVisibility": true,
   "subLayerIds": null,
   "minScale": 0,
   "maxScale": 0,
   "type": "Feature Layer",
   "geometryType": "esriGeometryPolygon",
   "supportsDynamicLegends": true
  },
  {
   "id": 14,
   "name": "Kronopark",
   "parentLayerId": -1,
   "defaultVisibility": true,
   "subLayerIds": null,
   "minScale": 0,
   "maxScale": 0,
   "type": "Feature Layer",
   "geometryType": "esriGeometryPolygon",
   "supportsDynamicLegends": true
  },
  {
   "id": 15,
   "name": "Annan fastighet",
   "parentLayerId": -1,
   "defaultVisibility": true,
   "subLayerIds": null,
   "minScale": 0,
   "maxScale": 0,
   "type": "Feature Layer",
   "geometryType": "esriGeometryPolygon",
   "supportsDynamicLegends": true
  }
 ],
 "tables": [],
 "spatialReference": {
  "wkid": 3006,
  "latestWkid": 3006,
  "xyTolerance": 0.001,
  "zTolerance": 0.001,
  "mTolerance": 0.001,
  "falseX": -5120900,
  "falseY": -9998100,
  "xyUnits": 10000,
  "falseZ": -100000,
  "zUnits": 10000,
  "falseM": -100000,
  "mUnits": 10000
 },
 "singleFusedMapCache": true,
 "tileInfo": {
  "rows": 256,
  "cols": 256,
  "dpi": 96,
  "format": "PNG",
  "compressionQuality": 0,
  "origin": {
   "x": -9497963.942936342,
   "y": 9997963.942936342
  },
  "spatialReference": {
   "wkid": 3006,
   "latestWkid": 3006,
   "xyTolerance": 0.001,
   "zTolerance": 0.001,
   "mTolerance": 0.001,
   "falseX": -5120900,
   "falseY": -9998100,
   "xyUnits": 10000,
   "falseZ": -100000,
   "zUnits": 10000,
   "falseM": -100000,
   "mUnits": 10000
  },
  "lods": [
   {
    "level": 0,
    "resolution": 78109.09330419017,
    "scale": 2.952154707559943E8
   },
   {
    "level": 1,
    "resolution": 39054.54665209509,
    "scale": 1.4760773537799716E8
   },
   {
    "level": 2,
    "resolution": 19527.273326047543,
    "scale": 7.380386768899858E7
   },
   {
    "level": 3,
    "resolution": 9763.636663023772,
    "scale": 3.690193384449929E7
   },
   {
    "level": 4,
    "resolution": 4881.818331511886,
    "scale": 1.8450966922249645E7
   },
   {
    "level": 5,
    "resolution": 2440.909165755943,
    "scale": 9225483.461124822
   },
   {
    "level": 6,
    "resolution": 1220.4545828779715,
    "scale": 4612741.730562411
   },
   {
    "level": 7,
    "resolution": 610.2272914389857,
    "scale": 2306370.8652812056
   },
   {
    "level": 8,
    "resolution": 305.11364571949287,
    "scale": 1153185.4326406028
   },
   {
    "level": 9,
    "resolution": 152.55682285974643,
    "scale": 576592.7163203014
   },
   {
    "level": 10,
    "resolution": 76.27841142987322,
    "scale": 288296.3581601507
   },
   {
    "level": 11,
    "resolution": 38.13920571493661,
    "scale": 144148.17908007535
   },
   {
    "level": 12,
    "resolution": 19.069602857468304,
    "scale": 72074.08954003768
   },
   {
    "level": 13,
    "resolution": 9.534801428734152,
    "scale": 36037.04477001884
   },
   {
    "level": 14,
    "resolution": 4.767400714367076,
    "scale": 18018.52238500942
   },
   {
    "level": 15,
    "resolution": 2.383700357183538,
    "scale": 9009.26119250471
   },
   {
    "level": 16,
    "resolution": 1.191850178591769,
    "scale": 4504.630596252355
   },
   {
    "level": 17,
    "resolution": 0.5959250892958845,
    "scale": 2252.3152981261774
   },
   {
    "level": 18,
    "resolution": 0.29796254464794225,
    "scale": 1126.1576490630887
   }
  ]
 },
 "storageInfo": {
  "storageFormat": "esriMapCacheStorageModeCompactV2",
  "packetSize": 128
 },
 "initialExtent": {
  "xmin": -127562.30843024742,
  "ymin": 6832373.353868902,
  "xmax": 1126274.584031986,
  "ymax": 7821691.724463627,
  "spatialReference": {
   "wkid": 3006,
   "latestWkid": 3006,
   "xyTolerance": 0.001,
   "zTolerance": 0.001,
   "mTolerance": 0.001,
   "falseX": -5120900,
   "falseY": -9998100,
   "xyUnits": 10000,
   "falseZ": -100000,
   "zUnits": 10000,
   "falseM": -100000,
   "mUnits": 10000
  }
 },
 "fullExtent": {
  "xmin": 348201.3005999997,
  "ymin": 6794759.025600001,
  "xmax": 920842.7352999998,
  "ymax": 7693355.9175,
  "spatialReference": {
   "wkid": 3006,
   "latestWkid": 3006,
   "xyTolerance": 0.001,
   "zTolerance": 0.001,
   "mTolerance": 0.001,
   "falseX": -5120900,
   "falseY": -9998100,
   "xyUnits": 10000,
   "falseZ": -100000,
   "zUnits": 10000,
   "falseM": -100000,
   "mUnits": 10000
  }
 },
 "datesInUnknownTimezone": false,
 "minScale": 9225483.461124822,
 "maxScale": 288296.3581601507,
 "minLOD": 5,
 "maxLOD": 10,
 "units": "esriMeters",
 "supportedImageFormatTypes": "PNG32,PNG24,PNG,JPG,DIB,TIFF,EMF,PS,PDF,GIF,SVG,SVGZ,BMP",
 "documentInfo": {
  "Title": "Map",
  "Author": "",
  "Comments": "",
  "Subject": "",
  "Category": "",
  "Version": "3.1.0",
  "AntialiasingMode": "Fast",
  "TextAntialiasingMode": "Force",
  "Keywords": "Byområde,Fastställdgräns,Renbetesfjäll,Kronopark,Odlings- och Lappmarksgräns"
 },
 "supportsQueryDomains": true,
 "capabilities": "Map,Query,Data",
 "supportedQueryFormats": "JSON, geoJSON, PBF",
 "exportTilesAllowed": false,
 "referenceScale": 0.0,
 "datumTransformations": [
  {
   "geoTransforms": [
    {
     "wkid": 1879,
     "latestWkid": 1879,
     "transformForward": false,
     "name": "SWEREF99_To_WGS_1984_1"
    }
   ]
  },
  {
   "geoTransforms": [
    {
     "wkid": 1879,
     "latestWkid": 1879,
     "transformForward": true,
     "name": "SWEREF99_To_WGS_1984_1"
    }
   ]
  }
 ],
 "supportsDatumTransformation": true,
 "archivingInfo": {
  "supportsHistoricMoment": false
 },
 "supportsClipping": true,
 "supportsSpatialFilter": true,
 "supportsTimeRelation": true,
 "supportsQueryDataElements": true,
 "mapUnits": {
  "uwkid": 9001
 },
 "maxRecordCount": 2000,
 "maxImageHeight": 4096,
 "maxImageWidth": 4096,
 "supportedExtensions": "FeatureServer, WMSServer",
 "resampling": false,
 "serviceItemId": "b3139205e28645d7b42e801e9a9a7678"
}
